Back to Multiple platform build/check report for BioC 3.15
ABCDEFGHIJKLMNOPQR[S]TUVWXYZ

This page was generated on 2022-01-26 11:08:52 -0500 (Wed, 26 Jan 2022).

HostnameOSArch (*)R versionInstalled pkgs
nebbiolo1Linux (Ubuntu 20.04.4 LTS)x86_64R Under development (unstable) (2022-01-05 r81451) -- "Unsuffered Consequences" 4164
riesling1Windows Server 2019 Standardx64R Under development (unstable) (2021-11-21 r81221) -- "Unsuffered Consequences" 4059
palomino3Windows Server 2022 Datacenterx64R Under development (unstable) (2021-12-21 r81400 ucrt) -- "Unsuffered Consequences" 4001
merida1macOS 10.14.6 Mojavex86_64R Under development (unstable) (2022-01-05 r81451) -- "Unsuffered Consequences" 4118
Click on any hostname to see more info about the system (e.g. compilers)      (*) as reported by 'uname -p', except on Windows and Mac OS X

INSTALL results for SubCellBarCode on riesling1


To the developers/maintainers of the SubCellBarCode package:
- Please allow up to 24 hours (and sometimes 48 hours) for your latest push to git@git.bioconductor.org:packages/SubCellBarCode.git to
reflect on this report. See How and When does the builder pull? When will my changes propagate? here for more information.
- Make sure to use the following settings in order to reproduce any error or warning you see on this page.

raw results

Package 1891/2075HostnameOS / ArchINSTALLBUILDCHECKBUILD BIN
SubCellBarCode 1.11.0  (landing page)
Taner Arslan
Snapshot Date: 2022-01-25 13:55:17 -0500 (Tue, 25 Jan 2022)
git_url: https://git.bioconductor.org/packages/SubCellBarCode
git_branch: master
git_last_commit: b34ded0
git_last_commit_date: 2021-10-26 12:52:05 -0500 (Tue, 26 Oct 2021)
nebbiolo1Linux (Ubuntu 20.04.4 LTS) / x86_64  OK    OK    OK  UNNEEDED, same version is already published
riesling1Windows Server 2019 Standard / x64  OK    OK    OK    OK  
palomino3Windows Server 2022 Datacenter / x64  OK    OK    OK    OK  NO, package depends on 'AnnotationDbi' which is not available
merida1macOS 10.14.6 Mojave / x86_64  OK    OK    OK    OK  UNNEEDED, same version is already published

Summary

Package: SubCellBarCode
Version: 1.11.0
Command: D:\biocbuild\bbs-3.15-bioc\R\bin\R.exe CMD INSTALL SubCellBarCode
StartedAt: 2022-01-25 15:59:31 -0500 (Tue, 25 Jan 2022)
EndedAt: 2022-01-25 16:00:33 -0500 (Tue, 25 Jan 2022)
EllapsedTime: 61.9 seconds
RetCode: 0
Status:   OK  

Command output

##############################################################################
##############################################################################
###
### Running command:
###
###   D:\biocbuild\bbs-3.15-bioc\R\bin\R.exe CMD INSTALL SubCellBarCode
###
##############################################################################
##############################################################################


* installing to library 'D:/biocbuild/bbs-3.15-bioc/R/library'
* installing *source* package 'SubCellBarCode' ...
** using staged installation
** R
** data
*** moving datasets to lazyload DB
** byte-compile and prepare package for lazy loading
** help
*** installing help indices
  converting help for package 'SubCellBarCode'
    finding HTML links ... done
    applyThresholdCompartment               html  
    applyThresholdNeighborhood              html  
    calRowMean                              html  
    calculateCoveredProtein                 html  
    candidateRelocatedProteins              html  
    compareCls                              html  
    computeThresholdCompartment             html  
    computeThresholdNeighborhood            html  
    convert2symbol                          html  
    hcc827Ctrl                              html  
    hcc827CtrlPSMCount                      html  
    hcc827GEF                               html  
    hcc827GEFClass                          html  
    hcc827GefPSMCount                       html  
    hcc827exon                              html  
    loadData                                html  
    markerProteins                          html  
    markerQualityControl                    html  
    mergeCls                                html  
    mergeProbability                        html  
    plotBarcode                             html  
    plotMultipleProtein                     html  
    replacePrediction                       html  
    sankeyPlot                              html  
    sumProbability                          html  
    svmClassification                       html  
    svmExternalData                         html  
    tsneVisualization                       html  
** building package indices
** installing vignettes
** testing if installed package can be loaded from temporary location
** testing if installed package can be loaded from final location
** testing if installed package keeps a record of temporary installation path
* DONE (SubCellBarCode)
Making 'packages.html' ...Warning in packageDescription(i, lib.loc = lib, fields = "Title", encoding = "UTF-8") :
  DESCRIPTION file of package 'inveRsion' is missing or broken
Warning in packageDescription(i, lib.loc = lib, fields = "Title", encoding = "UTF-8") :
  DESCRIPTION file of package 'MicrobiotaProcess' is missing or broken
 done