Index of /checkResults/devel/bioc-LATEST/SubCellBarCode/raw-results/lconway

[ICO]NameLast modifiedSizeDescription

[DIR]Parent Directory  -  
[TXT]buildbin-out.txt02-Jul-2022 00:08 1.2K 
[   ]buildbin-summary.dcf02-Jul-2022 00:08 572  
[TXT]buildsrc-out.txt02-Jul-2022 00:08 844  
[   ]buildsrc-summary.dcf02-Jul-2022 00:08 449  
[TXT]checksrc-out.txt02-Jul-2022 00:08 4.8K 
[   ]checksrc-summary.dcf02-Jul-2022 00:08 472  
[TXT]install-out.txt02-Jul-2022 00:08 1.0K 
[   ]install-summary.dcf02-Jul-2022 00:08 283