Back to Multiple platform build/check report for BioC 3.15
ABCDEFGHIJKLMNOPQR[S]TUVWXYZ

This page was generated on 2022-01-27 11:06:35 -0500 (Thu, 27 Jan 2022).

HostnameOSArch (*)R versionInstalled pkgs
nebbiolo1Linux (Ubuntu 20.04.4 LTS)x86_64R Under development (unstable) (2022-01-05 r81451) -- "Unsuffered Consequences" 4167
riesling1Windows Server 2019 Standardx64R Under development (unstable) (2021-11-21 r81221) -- "Unsuffered Consequences" 4062
palomino3Windows Server 2022 Datacenterx64R Under development (unstable) (2021-12-21 r81400 ucrt) -- "Unsuffered Consequences" 4004
merida1macOS 10.14.6 Mojavex86_64R Under development (unstable) (2022-01-05 r81451) -- "Unsuffered Consequences" 4121
Click on any hostname to see more info about the system (e.g. compilers)      (*) as reported by 'uname -p', except on Windows and Mac OS X

CHECK results for SubCellBarCode on nebbiolo1


To the developers/maintainers of the SubCellBarCode package:
- Please allow up to 24 hours (and sometimes 48 hours) for your latest push to git@git.bioconductor.org:packages/SubCellBarCode.git to
reflect on this report. See How and When does the builder pull? When will my changes propagate? here for more information.
- Make sure to use the following settings in order to reproduce any error or warning you see on this page.

raw results

Package 1893/2077HostnameOS / ArchINSTALLBUILDCHECKBUILD BIN
SubCellBarCode 1.11.0  (landing page)
Taner Arslan
Snapshot Date: 2022-01-26 13:55:18 -0500 (Wed, 26 Jan 2022)
git_url: https://git.bioconductor.org/packages/SubCellBarCode
git_branch: master
git_last_commit: b34ded0
git_last_commit_date: 2021-10-26 12:52:05 -0500 (Tue, 26 Oct 2021)
nebbiolo1Linux (Ubuntu 20.04.4 LTS) / x86_64  OK    OK    OK  UNNEEDED, same version is already published
riesling1Windows Server 2019 Standard / x64  OK    OK    OK    NA  
palomino3Windows Server 2022 Datacenter / x64  OK    OK    OK    OK  NO, package depends on 'AnnotationDbi' which is not available
merida1macOS 10.14.6 Mojave / x86_64  OK    OK    OK    OK  UNNEEDED, same version is already published

Summary

Package: SubCellBarCode
Version: 1.11.0
Command: /home/biocbuild/bbs-3.15-bioc/R/bin/R CMD check --install=check:SubCellBarCode.install-out.txt --library=/home/biocbuild/bbs-3.15-bioc/R/library --no-vignettes --timings SubCellBarCode_1.11.0.tar.gz
StartedAt: 2022-01-26 21:22:55 -0500 (Wed, 26 Jan 2022)
EndedAt: 2022-01-26 21:26:18 -0500 (Wed, 26 Jan 2022)
EllapsedTime: 203.0 seconds
RetCode: 0
Status:   OK  
CheckDir: SubCellBarCode.Rcheck
Warnings: 0

Command output

##############################################################################
##############################################################################
###
### Running command:
###
###   /home/biocbuild/bbs-3.15-bioc/R/bin/R CMD check --install=check:SubCellBarCode.install-out.txt --library=/home/biocbuild/bbs-3.15-bioc/R/library --no-vignettes --timings SubCellBarCode_1.11.0.tar.gz
###
##############################################################################
##############################################################################


* using log directory ‘/home/biocbuild/bbs-3.15-bioc/meat/SubCellBarCode.Rcheck’
* using R Under development (unstable) (2022-01-05 r81451)
* using platform: x86_64-pc-linux-gnu (64-bit)
* using session charset: UTF-8
* using option ‘--no-vignettes’
* checking for file ‘SubCellBarCode/DESCRIPTION’ ... OK
* checking extension type ... Package
* this is package ‘SubCellBarCode’ version ‘1.11.0’
* package encoding: UTF-8
* checking package namespace information ... OK
* checking package dependencies ... OK
* checking if this is a source package ... OK
* checking if there is a namespace ... OK
* checking for hidden files and directories ... OK
* checking for portable file names ... OK
* checking for sufficient/correct file permissions ... OK
* checking whether package ‘SubCellBarCode’ can be installed ... OK
* checking installed package size ... OK
* checking package directory ... OK
* checking ‘build’ directory ... OK
* checking DESCRIPTION meta-information ... OK
* checking top-level files ... OK
* checking for left-over files ... OK
* checking index information ... OK
* checking package subdirectories ... OK
* checking R files for non-ASCII characters ... OK
* checking R files for syntax errors ... OK
* checking whether the package can be loaded ... OK
* checking whether the package can be loaded with stated dependencies ... OK
* checking whether the package can be unloaded cleanly ... OK
* checking whether the namespace can be loaded with stated dependencies ... OK
* checking whether the namespace can be unloaded cleanly ... OK
* checking dependencies in R code ... OK
* checking S3 generic/method consistency ... OK
* checking replacement functions ... OK
* checking foreign function calls ... OK
* checking R code for possible problems ... NOTE
calculateCoveredProtein: no visible binding for global variable
  ‘Compartments’
calculateCoveredProtein: no visible binding for global variable
  ‘ProteinCoverage’
candidateRelocatedProteins: no visible binding for global variable
  ‘Pearson.Corr’
markerQualityControl: no visible binding for global variable
  ‘Correlation’
markerQualityControl: no visible binding for global variable ‘Pearson’
markerQualityControl: no visible binding for global variable ‘Spearman’
plotBarcode: no visible binding for global variable ‘Level’
plotBarcode: no visible binding for global variable ‘Probability’
plotBarcode: no visible binding for global variable ‘Locs’
plotMultipleProtein: no visible binding for global variable
  ‘Neighborhood’
plotMultipleProtein: no visible binding for global variable ‘Count’
plotMultipleProtein: no visible binding for global variable
  ‘Compartment’
Undefined global functions or variables:
  Compartment Compartments Correlation Count Level Locs Neighborhood
  Pearson Pearson.Corr Probability ProteinCoverage Spearman
* checking Rd files ... OK
* checking Rd metadata ... OK
* checking Rd cross-references ... OK
* checking for missing documentation entries ... OK
* checking for code/documentation mismatches ... OK
* checking Rd \usage sections ... OK
* checking Rd contents ... OK
* checking for unstated dependencies in examples ... OK
* checking contents of ‘data’ directory ... OK
* checking data for non-ASCII characters ... OK
* checking LazyData ... OK
* checking data for ASCII and uncompressed saves ... OK
* checking files in ‘vignettes’ ... OK
* checking examples ... OK
Examples with CPU (user + system) or elapsed time > 5s
                               user system elapsed
applyThresholdCompartment    13.656  0.712  14.366
applyThresholdNeighborhood   10.954  0.188  11.143
computeThresholdCompartment  10.777  0.116  10.893
computeThresholdNeighborhood  9.610  0.068   9.679
svmExternalData               9.025  0.135   9.164
svmClassification             7.689  0.068   7.757
candidateRelocatedProteins    7.153  0.176   7.329
* checking for unstated dependencies in vignettes ... OK
* checking package vignettes in ‘inst/doc’ ... OK
* checking running R code from vignettes ... SKIPPED
* checking re-building of vignette outputs ... SKIPPED
* checking PDF version of manual ... OK
* DONE

Status: 1 NOTE
See
  ‘/home/biocbuild/bbs-3.15-bioc/meat/SubCellBarCode.Rcheck/00check.log’
for details.



Installation output

SubCellBarCode.Rcheck/00install.out

##############################################################################
##############################################################################
###
### Running command:
###
###   /home/biocbuild/bbs-3.15-bioc/R/bin/R CMD INSTALL SubCellBarCode
###
##############################################################################
##############################################################################


* installing to library ‘/home/biocbuild/bbs-3.15-bioc/R/library’
* installing *source* package ‘SubCellBarCode’ ...
** using staged installation
** R
** data
*** moving datasets to lazyload DB
** byte-compile and prepare package for lazy loading
** help
*** installing help indices
** building package indices
** installing vignettes
** testing if installed package can be loaded from temporary location
** testing if installed package can be loaded from final location
** testing if installed package keeps a record of temporary installation path
* DONE (SubCellBarCode)

Tests output


Example timings

SubCellBarCode.Rcheck/SubCellBarCode-Ex.timings

nameusersystemelapsed
applyThresholdCompartment13.656 0.71214.366
applyThresholdNeighborhood10.954 0.18811.143
calRowMean0.0060.0000.006
calculateCoveredProtein0.1120.0000.112
candidateRelocatedProteins7.1530.1767.329
compareCls0.0150.0000.014
computeThresholdCompartment10.777 0.11610.893
computeThresholdNeighborhood9.6100.0689.679
convert2symbol000
hcc827Ctrl0.0000.0030.003
hcc827CtrlPSMCount0.0090.0010.009
hcc827GEF0.0030.0000.003
hcc827GEFClass0.0020.0000.002
hcc827GefPSMCount0.0010.0000.001
hcc827exon0.0030.0000.003
loadData0.0010.0000.001
markerQualityControl0.3640.0120.376
mergeCls0.0040.0000.004
mergeProbability0.0040.0000.004
plotBarcode0.4820.0070.490
plotMultipleProtein0.2430.0000.243
replacePrediction0.0030.0000.003
sankeyPlot0.0220.0000.023
sumProbability0.0040.0000.004
svmClassification7.6890.0687.757
svmExternalData9.0250.1359.164
tsneVisualization0.1540.0000.154