Back to Multiple platform build/check report for BioC 3.16 |
|
This page was generated on 2022-06-24 11:07:18 -0400 (Fri, 24 Jun 2022).
Hostname | OS | Arch (*) | R version | Installed pkgs |
---|---|---|---|---|
nebbiolo2 | Linux (Ubuntu 20.04.4 LTS) | x86_64 | 4.2.0 Patched (2022-06-02 r82447) -- "Vigorous Calisthenics" | 4331 |
palomino4 | Windows Server 2022 Datacenter | x64 | 4.2.0 Patched (2022-06-02 r82447 ucrt) -- "Vigorous Calisthenics" | 4136 |
lconway | macOS 12.2.1 Monterey | x86_64 | 4.2.0 Patched (2022-05-29 r82424) -- "Vigorous Calisthenics" | 4147 |
Click on any hostname to see more info about the system (e.g. compilers) (*) as reported by 'uname -p', except on Windows and Mac OS X |
To the developers/maintainers of the Streamer package: - Please allow up to 24 hours (and sometimes 48 hours) for your latest push to git@git.bioconductor.org:packages/Streamer.git to reflect on this report. See How and When does the builder pull? When will my changes propagate? for more information. - Make sure to use the following settings in order to reproduce any error or warning you see on this page. |
Package 1922/2118 | Hostname | OS / Arch | INSTALL | BUILD | CHECK | BUILD BIN | ||||||||
Streamer 1.43.0 (landing page) Martin Morgan
| nebbiolo2 | Linux (Ubuntu 20.04.4 LTS) / x86_64 | OK | OK | OK | ![]() | ||||||||
palomino4 | Windows Server 2022 Datacenter / x64 | OK | OK | OK | OK | ![]() | ||||||||
lconway | macOS 12.2.1 Monterey / x86_64 | OK | OK | OK | OK | ![]() | ||||||||
Package: Streamer |
Version: 1.43.0 |
Command: F:\biocbuild\bbs-3.16-bioc\R\bin\R.exe CMD check --force-multiarch --install=check:Streamer.install-out.txt --library=F:\biocbuild\bbs-3.16-bioc\R\library --no-vignettes --timings Streamer_1.43.0.tar.gz |
StartedAt: 2022-06-24 06:17:03 -0400 (Fri, 24 Jun 2022) |
EndedAt: 2022-06-24 06:17:50 -0400 (Fri, 24 Jun 2022) |
EllapsedTime: 46.7 seconds |
RetCode: 0 |
Status: OK |
CheckDir: Streamer.Rcheck |
Warnings: 0 |
############################################################################## ############################################################################## ### ### Running command: ### ### F:\biocbuild\bbs-3.16-bioc\R\bin\R.exe CMD check --force-multiarch --install=check:Streamer.install-out.txt --library=F:\biocbuild\bbs-3.16-bioc\R\library --no-vignettes --timings Streamer_1.43.0.tar.gz ### ############################################################################## ############################################################################## * using log directory 'F:/biocbuild/bbs-3.16-bioc/meat/Streamer.Rcheck' * using R version 4.2.0 Patched (2022-06-02 r82447 ucrt) * using platform: x86_64-w64-mingw32 (64-bit) * using session charset: UTF-8 * using option '--no-vignettes' * checking for file 'Streamer/DESCRIPTION' ... OK * checking extension type ... Package * this is package 'Streamer' version '1.43.0' * checking package namespace information ... OK * checking package dependencies ... OK * checking if this is a source package ... OK * checking if there is a namespace ... OK * checking for hidden files and directories ... OK * checking for portable file names ... OK * checking whether package 'Streamer' can be installed ... OK * checking installed package size ... OK * checking package directory ... OK * checking 'build' directory ... OK * checking DESCRIPTION meta-information ... OK * checking top-level files ... OK * checking for left-over files ... OK * checking index information ... OK * checking package subdirectories ... OK * checking R files for non-ASCII characters ... OK * checking R files for syntax errors ... OK * checking whether the package can be loaded ... OK * checking whether the package can be loaded with stated dependencies ... OK * checking whether the package can be unloaded cleanly ... OK * checking whether the namespace can be loaded with stated dependencies ... OK * checking whether the namespace can be unloaded cleanly ... OK * checking dependencies in R code ... NOTE Missing objects imported by ':::' calls: 'parallel:::mckill' 'parallel:::sendMaster' * checking S3 generic/method consistency ... OK * checking replacement functions ... OK * checking foreign function calls ... OK * checking R code for possible problems ... OK * checking Rd files ... OK * checking Rd metadata ... OK * checking Rd cross-references ... OK * checking for missing documentation entries ... OK * checking for code/documentation mismatches ... OK * checking Rd \usage sections ... OK * checking Rd contents ... OK * checking for unstated dependencies in examples ... OK * checking line endings in C/C++/Fortran sources/headers ... OK * checking compiled code ... NOTE Note: information on .o files for x64 is not available File 'F:/biocbuild/bbs-3.16-bioc/R/library/Streamer/libs/x64/Streamer.dll': Found 'abort', possibly from 'abort' (C), 'runtime' (Fortran) Compiled code should not call entry points which might terminate R nor write to stdout/stderr instead of to the console, nor use Fortran I/O nor system RNGs. The detected symbols are linked into the code but might come from libraries and not actually be called. See 'Writing portable packages' in the 'Writing R Extensions' manual. * checking sizes of PDF files under 'inst/doc' ... OK * checking files in 'vignettes' ... OK * checking examples ... OK * checking for unstated dependencies in 'tests' ... OK * checking tests ... Running 'unit_tests.R' OK * checking for unstated dependencies in vignettes ... OK * checking package vignettes in 'inst/doc' ... OK * checking running R code from vignettes ... SKIPPED * checking re-building of vignette outputs ... SKIPPED * checking PDF version of manual ... OK * DONE Status: 2 NOTEs See 'F:/biocbuild/bbs-3.16-bioc/meat/Streamer.Rcheck/00check.log' for details.
Streamer.Rcheck/00install.out
############################################################################## ############################################################################## ### ### Running command: ### ### C:\cygwin\bin\curl.exe -O http://155.52.207.166/BBS/3.16/bioc/src/contrib/Streamer_1.43.0.tar.gz && rm -rf Streamer.buildbin-libdir && mkdir Streamer.buildbin-libdir && F:\biocbuild\bbs-3.16-bioc\R\bin\R.exe CMD INSTALL --merge-multiarch --build --library=Streamer.buildbin-libdir Streamer_1.43.0.tar.gz && F:\biocbuild\bbs-3.16-bioc\R\bin\R.exe CMD INSTALL Streamer_1.43.0.zip && rm Streamer_1.43.0.tar.gz Streamer_1.43.0.zip ### ############################################################################## ############################################################################## % Total % Received % Xferd Average Speed Time Time Time Current Dload Upload Total Spent Left Speed 0 0 0 0 0 0 0 0 --:--:-- --:--:-- --:--:-- 0 100 43758 100 43758 0 0 771k 0 --:--:-- --:--:-- --:--:-- 776k only one architecture so ignoring '--merge-multiarch' * installing *source* package 'Streamer' ... ** using staged installation ** libs gcc -I"F:/biocbuild/bbs-3.16-bioc/R/include" -DNDEBUG -I"C:/rtools42/x86_64-w64-mingw32.static.posix/include" -O2 -Wall -std=gnu99 -mfpmath=sse -msse2 -mstackrealign -c R_init_Streamer.c -o R_init_Streamer.o gcc -I"F:/biocbuild/bbs-3.16-bioc/R/include" -DNDEBUG -I"C:/rtools42/x86_64-w64-mingw32.static.posix/include" -O2 -Wall -std=gnu99 -mfpmath=sse -msse2 -mstackrealign -c raw_input.c -o raw_input.o gcc -shared -s -static-libgcc -o Streamer.dll tmp.def R_init_Streamer.o raw_input.o -LC:/rtools42/x86_64-w64-mingw32.static.posix/lib/x64 -LC:/rtools42/x86_64-w64-mingw32.static.posix/lib -LF:/biocbuild/bbs-3.16-bioc/R/bin/x64 -lR installing to F:/biocbuild/bbs-3.16-bioc/meat/Streamer.buildbin-libdir/00LOCK-Streamer/00new/Streamer/libs/x64 ** R ** inst ** byte-compile and prepare package for lazy loading ** help *** installing help indices ** building package indices ** installing vignettes ** testing if installed package can be loaded from temporary location ** testing if installed package can be loaded from final location ** testing if installed package keeps a record of temporary installation path * MD5 sums packaged installation of 'Streamer' as Streamer_1.43.0.zip * DONE (Streamer) * installing to library 'F:/biocbuild/bbs-3.16-bioc/R/library' package 'Streamer' successfully unpacked and MD5 sums checked
Streamer.Rcheck/tests/unit_tests.Rout
R version 4.2.0 Patched (2022-06-02 r82447 ucrt) -- "Vigorous Calisthenics" Copyright (C) 2022 The R Foundation for Statistical Computing Platform: x86_64-w64-mingw32/x64 (64-bit) R is free software and comes with ABSOLUTELY NO WARRANTY. You are welcome to redistribute it under certain conditions. Type 'license()' or 'licence()' for distribution details. R is a collaborative project with many contributors. Type 'contributors()' for more information and 'citation()' on how to cite R or R packages in publications. Type 'demo()' for some demos, 'help()' for on-line help, or 'help.start()' for an HTML browser interface to help. Type 'q()' to quit R. > BiocGenerics:::testPackage("Streamer") Timing stopped at: 0 0 0 Error in DEACTIVATED("should error with only a consumer (?)") : should error with only a consumer (?) In addition: Warning messages: 1: In for (i in seq_len(n)) { : closing unused connection 4 (F:/biocbuild/bbs-3.16-bioc/R/library/Streamer/extdata/s_1_sequence.txt) 2: In for (i in seq_len(n)) { : closing unused connection 3 (F:/biocbuild/bbs-3.16-bioc/R/library/Streamer/extdata/s_1_sequence.txt) RUNIT TEST PROTOCOL -- Fri Jun 24 06:17:38 2022 *********************************************** Number of test functions: 14 Number of deactivated test functions: 1 Number of errors: 0 Number of failures: 0 1 Test Suite : Streamer RUnit Tests - 14 test functions, 0 errors, 0 failures Number of test functions: 14 Number of deactivated test functions: 1 Number of errors: 0 Number of failures: 0 > > proc.time() user system elapsed 1.18 0.15 1.31
Streamer.Rcheck/Streamer-Ex.timings
name | user | system | elapsed | |
ConnectionProducer-classes | 0.34 | 0.02 | 0.36 | |
Consumer-class | 0.02 | 0.00 | 0.02 | |
DAGTeam-class | 0.23 | 0.03 | 0.26 | |
Downsample-class | 0 | 0 | 0 | |
FunctionProducerConsumer-classes | 0.38 | 0.02 | 0.39 | |
ParallelParam-classes | 0 | 0 | 0 | |
Producer-class | 0.03 | 0.00 | 0.03 | |
RawInput-class | 0.01 | 0.00 | 0.02 | |
Reducer-class | 0.06 | 0.00 | 0.06 | |
Seq-class | 0.02 | 0.00 | 0.02 | |
Stream-class | 0.05 | 0.00 | 0.04 | |
Streamer-package | 0.03 | 0.01 | 0.05 | |
Team-class | 0 | 0 | 0 | |
Utility-classes | 0 | 0 | 0 | |
reset | 0 | 0 | 0 | |
status | 0 | 0 | 0 | |
yield | 0 | 0 | 0 | |