Index of /checkResults/devel/bioc-LATEST/StarBioTrek/raw-results

[ICO]NameLast modifiedSizeDescription

[DIR]Parent Directory  -  
[   ]info.dcf19-Jan-2022 01:12 277  
[DIR]merida1/19-Jan-2022 01:12 -  
[DIR]nebbiolo1/19-Jan-2022 01:06 -  
[DIR]palomino3/19-Jan-2022 01:10 -  
[DIR]riesling1/19-Jan-2022 01:08 -