Back to Multiple platform build/check report for BioC 3.15
ABCDEFGHIJKLMNOPQR[S]TUVWXYZ

This page was generated on 2022-01-22 11:07:43 -0500 (Sat, 22 Jan 2022).

HostnameOSArch (*)R versionInstalled pkgs
nebbiolo1Linux (Ubuntu 20.04.4 LTS)x86_64R Under development (unstable) (2022-01-05 r81451) -- "Unsuffered Consequences" 4163
riesling1Windows Server 2019 Standardx64R Under development (unstable) (2021-11-21 r81221) -- "Unsuffered Consequences" 4058
palomino3Windows Server 2022 Datacenterx64R Under development (unstable) (2021-12-21 r81400 ucrt) -- "Unsuffered Consequences" 4000
merida1macOS 10.14.6 Mojavex86_64R Under development (unstable) (2022-01-05 r81451) -- "Unsuffered Consequences" 4117
Click on any hostname to see more info about the system (e.g. compilers)      (*) as reported by 'uname -p', except on Windows and Mac OS X

INSTALL results for SpidermiR on riesling1


To the developers/maintainers of the SpidermiR package:
- Please allow up to 24 hours (and sometimes 48 hours) for your latest push to git@git.bioconductor.org:packages/SpidermiR.git to
reflect on this report. See How and When does the builder pull? When will my changes propagate? here for more information.
- Make sure to use the following settings in order to reproduce any error or warning you see on this page.

raw results

Package 1851/2075HostnameOS / ArchINSTALLBUILDCHECKBUILD BIN
SpidermiR 1.25.0  (landing page)
Claudia Cava
Snapshot Date: 2022-01-21 13:55:18 -0500 (Fri, 21 Jan 2022)
git_url: https://git.bioconductor.org/packages/SpidermiR
git_branch: master
git_last_commit: 52052ec
git_last_commit_date: 2021-10-26 12:26:19 -0500 (Tue, 26 Oct 2021)
nebbiolo1Linux (Ubuntu 20.04.4 LTS) / x86_64  OK    OK    OK  UNNEEDED, same version is already published
riesling1Windows Server 2019 Standard / x64  OK    OK    NA    NA  
palomino3Windows Server 2022 Datacenter / x64  OK    OK    ERROR    OK  
merida1macOS 10.14.6 Mojave / x86_64  OK    OK    OK    OK  NO, package depends on 'MAGeCKFlute' which is not available

Summary

Package: SpidermiR
Version: 1.25.0
Command: D:\biocbuild\bbs-3.15-bioc\R\bin\R.exe CMD INSTALL SpidermiR
StartedAt: 2022-01-21 16:05:58 -0500 (Fri, 21 Jan 2022)
EndedAt: 2022-01-21 16:07:09 -0500 (Fri, 21 Jan 2022)
EllapsedTime: 71.1 seconds
RetCode: 0
Status:   OK  

Command output

##############################################################################
##############################################################################
###
### Running command:
###
###   D:\biocbuild\bbs-3.15-bioc\R\bin\R.exe CMD INSTALL SpidermiR
###
##############################################################################
##############################################################################


* installing to library 'D:/biocbuild/bbs-3.15-bioc/R/library'
* installing *source* package 'SpidermiR' ...
** using staged installation
** R
** inst
** byte-compile and prepare package for lazy loading
** help
*** installing help indices
  converting help for package 'SpidermiR'
    finding HTML links ... done
    SpidermiRanalyze_degree_centrality      html  
    SpidermiRanalyze_direct_net             html  
    SpidermiRanalyze_direct_subnetwork      html  
    SpidermiRanalyze_subnetwork_neigh       html  
    SpidermiRdownload_drug_gene             html  
    SpidermiRdownload_miRNAextra_cir        html  
    SpidermiRdownload_miRNAprediction       html  
    SpidermiRdownload_miRNAvalidate         html  
    SpidermiRdownload_net                   html  
    SpidermiRprepare_NET                    html  
    SpidermiRquery_disease                  html  
    SpidermiRquery_networks_type            html  
    SpidermiRquery_spec_networks            html  
    SpidermiRquery_species                  html  
** building package indices
** testing if installed package can be loaded from temporary location
** testing if installed package can be loaded from final location
** testing if installed package keeps a record of temporary installation path
* DONE (SpidermiR)
Making 'packages.html' ...Warning in packageDescription(i, lib.loc = lib, fields = "Title", encoding = "UTF-8") :
  DESCRIPTION file of package 'spiky' is missing or broken
 done