Name | Last modified | Size | Description | |
---|---|---|---|---|
Parent Directory | - | |||
install-out.txt | 16-Jun-2024 01:34 | 972 | ||
install-summary.dcf | 16-Jun-2024 01:34 | 267 | ||
buildsrc-summary.dcf | 16-Jun-2024 01:34 | 435 | ||
buildsrc-out.txt | 16-Jun-2024 01:34 | 909 | ||
checksrc-out.txt | 16-Jun-2024 01:34 | 4.2K | ||
checksrc-summary.dcf | 16-Jun-2024 01:34 | 430 | ||