Index of /checkResults/devel/bioc-LATEST/SpatialDecon/raw-results

[ICO]NameLast modifiedSizeDescription

[DIR]Parent Directory  -  
[   ]info.dcf02-Feb-2023 01:10 280  
[DIR]merida1/02-Feb-2023 01:10 -  
[DIR]nebbiolo1/02-Feb-2023 01:06 -  
[DIR]palomino3/02-Feb-2023 01:08 -