Index of /checkResults/devel/bioc-LATEST/SpatialCPie/raw-results

[ICO]NameLast modifiedSizeDescription

[DIR]Parent Directory  -  
[   ]info.dcf30-Sep-2023 01:06 291  
[DIR]kunpeng2/30-Sep-2023 01:06 -  
[DIR]lconway/30-Sep-2023 01:05 -  
[DIR]nebbiolo2/30-Sep-2023 01:03 -  
[DIR]palomino4/30-Sep-2023 01:04 -