Name | Last modified | Size | Description | |
---|---|---|---|---|
Parent Directory | - | |||
install-summary.dcf | 28-Jun-2024 00:39 | 277 | ||
buildsrc-summary.dcf | 28-Jun-2024 00:39 | 439 | ||
checksrc-summary.dcf | 28-Jun-2024 00:39 | 459 | ||
buildbin-summary.dcf | 28-Jun-2024 00:39 | 554 | ||
buildsrc-out.txt | 28-Jun-2024 00:39 | 862 | ||
checksrc-out.txt | 28-Jun-2024 00:39 | 4.1K | ||
install-out.txt | 28-Jun-2024 00:39 | 20K | ||
buildbin-out.txt | 28-Jun-2024 00:39 | 22K | ||