Back to Multiple platform build/check report for BioC 3.14
ABCDEFGHIJKLMNOPQR[S]TUVWXYZ

This page was generated on 2021-10-23 14:06:46 -0400 (Sat, 23 Oct 2021).

BUILD BIN results for Spaniel on riesling1

To the developers/maintainers of the Spaniel package:
- Please allow up to 24 hours (and sometimes 48 hours) for your latest push to git@git.bioconductor.org:packages/Spaniel.git to
reflect on this report. See How and When does the builder pull? When will my changes propagate? here for more information.
- Make sure to use the following settings in order to reproduce any error or warning you see on this page.

raw results

Package 1838/2083HostnameOS / ArchINSTALLBUILDCHECKBUILD BIN
Spaniel 1.7.0  (landing page)
Rachel Queen
Snapshot Date: 2021-10-22 14:50:11 -0400 (Fri, 22 Oct 2021)
git_url: https://git.bioconductor.org/packages/Spaniel
git_branch: master
git_last_commit: 19d86dc
git_last_commit_date: 2021-05-19 12:46:26 -0400 (Wed, 19 May 2021)
nebbiolo2Linux (Ubuntu 20.04.2 LTS) / x86_64  OK    OK    OK  UNNEEDED, same version is already published
riesling1Windows Server 2019 Standard / x64  OK    NA    OK    OK  
merida1macOS 10.14.6 Mojave / x86_64  OK    OK    OK    OK  UNNEEDED, same version is already published

Summary

Package: Spaniel
Version: 1.7.0
Command: rm -rf Spaniel.buildbin-libdir && mkdir Spaniel.buildbin-libdir && D:\biocbuild\bbs-3.14-bioc\R\bin\R.exe CMD INSTALL --merge-multiarch --build --library=Spaniel.buildbin-libdir Spaniel_1.7.0.tar.gz
StartedAt: 2021-10-23 12:57:12 -0400 (Sat, 23 Oct 2021)
EndedAt: 2021-10-23 13:01:16 -0400 (Sat, 23 Oct 2021)
EllapsedTime: 243.4 seconds
RetCode: 0
Status:   OK  
PackageFile: Spaniel_1.7.0.zip
PackageFileSize: 3.755 MiB

Command output

##############################################################################
##############################################################################
###
### Running command:
###
###   rm -rf Spaniel.buildbin-libdir && mkdir Spaniel.buildbin-libdir && D:\biocbuild\bbs-3.14-bioc\R\bin\R.exe CMD INSTALL --merge-multiarch --build --library=Spaniel.buildbin-libdir Spaniel_1.7.0.tar.gz
###
##############################################################################
##############################################################################



install for i386

* installing *source* package 'Spaniel' ...
** using staged installation
** R
** inst
** byte-compile and prepare package for lazy loading
** help
*** installing help indices
  converting help for package 'Spaniel'
    finding HTML links ... done
    addCoordinates                          html  
    createSCE                               html  
    createSeurat                            html  
    createVisiumSCE                         html  
    markClusterCol                          html  
    parseImage                              html  
    removeSpots                             html  
    runShinySpaniel                         html  
    selectSpots                             html  
    spanielPlot                             html  
** building package indices
** installing vignettes
** testing if installed package can be loaded from temporary location
** testing if installed package can be loaded from final location
** testing if installed package keeps a record of temporary installation path

install for x64

* installing *source* package 'Spaniel' ...
** testing if installed package can be loaded
* MD5 sums
packaged installation of 'Spaniel' as Spaniel_1.7.0.zip
* DONE (Spaniel)