Back to Multiple platform build/check report for BioC 3.15
ABCDEFGHIJKLMNOPQR[S]TUVWXYZ

This page was generated on 2022-01-15 11:08:42 -0500 (Sat, 15 Jan 2022).

HostnameOSArch (*)R versionInstalled pkgs
nebbiolo1Linux (Ubuntu 20.04.4 LTS)x86_64R Under development (unstable) (2022-01-05 r81451) -- "Unsuffered Consequences" 4160
riesling1Windows Server 2019 Standardx64R Under development (unstable) (2021-11-21 r81221) -- "Unsuffered Consequences" 4055
palomino3Windows Server 2022 Datacenterx64R Under development (unstable) (2021-12-21 r81400 ucrt) -- "Unsuffered Consequences" 3997
merida1macOS 10.14.6 Mojavex86_64R Under development (unstable) (2022-01-05 r81451) -- "Unsuffered Consequences" 4114
Click on any hostname to see more info about the system (e.g. compilers)      (*) as reported by 'uname -p', except on Windows and Mac OS X

INSTALL results for SomaticSignatures on riesling1


To the developers/maintainers of the SomaticSignatures package:
- Please allow up to 24 hours (and sometimes 48 hours) for your latest push to git@git.bioconductor.org:packages/SomaticSignatures.git to
reflect on this report. See How and When does the builder pull? When will my changes propagate? here for more information.
- Make sure to use the following settings in order to reproduce any error or warning you see on this page.

raw results

Package 1828/2074HostnameOS / ArchINSTALLBUILDCHECKBUILD BIN
SomaticSignatures 2.31.1  (landing page)
Julian Gehring
Snapshot Date: 2022-01-14 13:55:18 -0500 (Fri, 14 Jan 2022)
git_url: https://git.bioconductor.org/packages/SomaticSignatures
git_branch: master
git_last_commit: 562e355
git_last_commit_date: 2021-11-21 00:56:12 -0500 (Sun, 21 Nov 2021)
nebbiolo1Linux (Ubuntu 20.04.4 LTS) / x86_64  OK    OK    OK  UNNEEDED, same version is already published
riesling1Windows Server 2019 Standard / x64  OK    OK    OK    OK  
palomino3Windows Server 2022 Datacenter / x64  OK    OK    OK    OK  NO, package depends on 'VariantAnnotation' which is not available
merida1macOS 10.14.6 Mojave / x86_64  OK    OK    OK    OK  UNNEEDED, same version is already published

Summary

Package: SomaticSignatures
Version: 2.31.1
Command: D:\biocbuild\bbs-3.15-bioc\R\bin\R.exe CMD INSTALL SomaticSignatures
StartedAt: 2022-01-14 16:15:55 -0500 (Fri, 14 Jan 2022)
EndedAt: 2022-01-14 16:16:56 -0500 (Fri, 14 Jan 2022)
EllapsedTime: 61.4 seconds
RetCode: 0
Status:   OK  

Command output

##############################################################################
##############################################################################
###
### Running command:
###
###   D:\biocbuild\bbs-3.15-bioc\R\bin\R.exe CMD INSTALL SomaticSignatures
###
##############################################################################
##############################################################################


* installing to library 'D:/biocbuild/bbs-3.15-bioc/R/library'
* installing *source* package 'SomaticSignatures' ...
** using staged installation
** R
** data
** inst
** byte-compile and prepare package for lazy loading
** help
*** installing help indices
  converting help for package 'SomaticSignatures'
    finding HTML links ... done
    MutationalSignatures-class              html  
    SomaticSignatures-package               html  
    cluster-spetrum                         html  
    decomposition-functions                 html  
    gc                                      html  
    granges-utils                           html  
    finding level-2 HTML links ... done

    hs-chrs                                 html  
    kmers-data                              html  
    kmers                                   html  
    motif-functions                         html  
    mutation-context                        html  
    mutation-distribution                   html  
    mutational-normalization                html  
    mutational-plots                        html  
    mutational-signatures                   html  
    mutect                                  html  
    number-signatures                       html  
    sca-data                                html  
    signature-plot-functions                html  
    signatures21-data                       html  
    utils                                   html  
** building package indices
** installing vignettes
** testing if installed package can be loaded from temporary location
** testing if installed package can be loaded from final location
** testing if installed package keeps a record of temporary installation path
* DONE (SomaticSignatures)
Making 'packages.html' ...Warning in packageDescription(i, lib.loc = lib, fields = "Title", encoding = "UTF-8") :
  DESCRIPTION file of package 'CNVfilteR' is missing or broken
Warning in packageDescription(i, lib.loc = lib, fields = "Title", encoding = "UTF-8") :
  DESCRIPTION file of package 'compEpiTools' is missing or broken
 done