Back to Multiple platform build/check report for BioC 3.14
ABCDEFGHIJKLMNOPQR[S]TUVWXYZ

This page was generated on 2021-10-18 12:04:21 -0400 (Mon, 18 Oct 2021).

BUILD results for SingleCellSignalR on riesling1

To the developers/maintainers of the SingleCellSignalR package:
- Please allow up to 24 hours (and sometimes 48 hours) for your latest push to git@git.bioconductor.org:packages/SingleCellSignalR.git to
reflect on this report. See How and When does the builder pull? When will my changes propagate? here for more information.
- Make sure to use the following settings in order to reproduce any error or warning you see on this page.

raw results

Package 1786/2060HostnameOS / ArchINSTALLBUILDCHECKBUILD BIN
SingleCellSignalR 1.5.0  (landing page)
Jacques Colinge
Snapshot Date: 2021-10-17 14:50:03 -0400 (Sun, 17 Oct 2021)
git_url: https://git.bioconductor.org/packages/SingleCellSignalR
git_branch: master
git_last_commit: 2ed3832
git_last_commit_date: 2021-05-19 12:52:18 -0400 (Wed, 19 May 2021)
nebbiolo2Linux (Ubuntu 20.04.2 LTS) / x86_64  OK    OK    WARNINGS  UNNEEDED, same version is already published
riesling1Windows Server 2019 Standard / x64  OK    OK    WARNINGS    OK  UNNEEDED, same version is already published
merida1macOS 10.14.6 Mojave / x86_64  OK    OK    WARNINGS    NA  

Summary

Package: SingleCellSignalR
Version: 1.5.0
Command: chmod a+r SingleCellSignalR -R && D:\biocbuild\bbs-3.14-bioc\R\bin\R.exe CMD build --keep-empty-dirs --no-resave-data SingleCellSignalR
StartedAt: 2021-10-17 23:11:48 -0400 (Sun, 17 Oct 2021)
EndedAt: 2021-10-17 23:15:32 -0400 (Sun, 17 Oct 2021)
EllapsedTime: 223.9 seconds
RetCode: 0
Status:   OK  
PackageFile: SingleCellSignalR_1.5.0.tar.gz
PackageFileSize: 4.016 MiB

Command output

##############################################################################
##############################################################################
###
### Running command:
###
###   chmod a+r SingleCellSignalR -R && D:\biocbuild\bbs-3.14-bioc\R\bin\R.exe CMD build --keep-empty-dirs --no-resave-data SingleCellSignalR
###
##############################################################################
##############################################################################


* checking for file 'SingleCellSignalR/DESCRIPTION' ... OK
* preparing 'SingleCellSignalR':
* checking DESCRIPTION meta-information ... OK
* installing the package to build vignettes
* creating vignettes ... OK
* checking for LF line-endings in source and make files and shell scripts
* checking for empty or unneeded directories
* building 'SingleCellSignalR_1.5.0.tar.gz'