Back to Multiple platform build/check report for BioC 3.14
ABCDEFGHIJKLMNOPQR[S]TUVWXYZ

This page was generated on 2021-10-18 12:04:21 -0400 (Mon, 18 Oct 2021).

BUILD BIN results for SingleCellSignalR on riesling1

To the developers/maintainers of the SingleCellSignalR package:
- Please allow up to 24 hours (and sometimes 48 hours) for your latest push to git@git.bioconductor.org:packages/SingleCellSignalR.git to
reflect on this report. See How and When does the builder pull? When will my changes propagate? here for more information.
- Make sure to use the following settings in order to reproduce any error or warning you see on this page.

raw results

Package 1786/2060HostnameOS / ArchINSTALLBUILDCHECKBUILD BIN
SingleCellSignalR 1.5.0  (landing page)
Jacques Colinge
Snapshot Date: 2021-10-17 14:50:03 -0400 (Sun, 17 Oct 2021)
git_url: https://git.bioconductor.org/packages/SingleCellSignalR
git_branch: master
git_last_commit: 2ed3832
git_last_commit_date: 2021-05-19 12:52:18 -0400 (Wed, 19 May 2021)
nebbiolo2Linux (Ubuntu 20.04.2 LTS) / x86_64  OK    OK    WARNINGS  UNNEEDED, same version is already published
riesling1Windows Server 2019 Standard / x64  OK    OK    WARNINGS    OK  UNNEEDED, same version is already published
merida1macOS 10.14.6 Mojave / x86_64  OK    OK    WARNINGS    NA  

Summary

Package: SingleCellSignalR
Version: 1.5.0
Command: rm -rf SingleCellSignalR.buildbin-libdir && mkdir SingleCellSignalR.buildbin-libdir && D:\biocbuild\bbs-3.14-bioc\R\bin\R.exe CMD INSTALL --merge-multiarch --build --library=SingleCellSignalR.buildbin-libdir SingleCellSignalR_1.5.0.tar.gz
StartedAt: 2021-10-18 07:24:01 -0400 (Mon, 18 Oct 2021)
EndedAt: 2021-10-18 07:28:27 -0400 (Mon, 18 Oct 2021)
EllapsedTime: 265.3 seconds
RetCode: 0
Status:   OK  
PackageFile: SingleCellSignalR_1.5.0.zip
PackageFileSize: 5.894 MiB

Command output

##############################################################################
##############################################################################
###
### Running command:
###
###   rm -rf SingleCellSignalR.buildbin-libdir && mkdir SingleCellSignalR.buildbin-libdir && D:\biocbuild\bbs-3.14-bioc\R\bin\R.exe CMD INSTALL --merge-multiarch --build --library=SingleCellSignalR.buildbin-libdir SingleCellSignalR_1.5.0.tar.gz
###
##############################################################################
##############################################################################



install for i386

* installing *source* package 'SingleCellSignalR' ...
** using staged installation
** R
** data
*** moving datasets to lazyload DB
** inst
** byte-compile and prepare package for lazy loading
** help
*** installing help indices
  converting help for package 'SingleCellSignalR'
    finding HTML links ... done
    LRdb                                    html  
    LRscore                                 html  
    PwC_ReactomeKEGG                        html  
    cell_classifier                         html  
    cell_signaling                          html  
    cluster_analysis                        html  
    clustering                              html  
    data_prepare                            html  
    example_dataset                         html  
    expression_plot                         html  
    expression_plot_2                       html  
    inter_network                           html  
    intra_network                           html  
    markers                                 html  
    markers_default                         html  
    mm2Hs                                   html  
    mv_interactions                         html  
    simplify_interactions                   html  
    visualize_interactions                  html  
** building package indices
** installing vignettes
** testing if installed package can be loaded from temporary location
** testing if installed package can be loaded from final location
** testing if installed package keeps a record of temporary installation path

install for x64

* installing *source* package 'SingleCellSignalR' ...
** testing if installed package can be loaded
* MD5 sums
packaged installation of 'SingleCellSignalR' as SingleCellSignalR_1.5.0.zip
* DONE (SingleCellSignalR)