Index of /checkResults/devel/bioc-LATEST/SingleCellSignalR/raw-results

[ICO]NameLast modifiedSizeDescription

[DIR]Parent Directory  -  
[DIR]merida1/27-Jan-2022 01:12 -  
[DIR]nebbiolo1/27-Jan-2022 01:06 -  
[DIR]palomino3/27-Jan-2022 01:10 -  
[DIR]riesling1/27-Jan-2022 01:08 -  
[   ]info.dcf27-Jan-2022 01:12 292