Index of /checkResults/devel/bioc-LATEST/SimBindProfiles/raw-results/palomino4

[ICO]NameLast modifiedSizeDescription

[DIR]Parent Directory  -  
[TXT]buildbin-out.txt25-Jun-2022 00:07 1.2K 
[   ]buildbin-summary.dcf25-Jun-2022 00:07 581  
[TXT]buildsrc-out.txt25-Jun-2022 00:07 939  
[   ]buildsrc-summary.dcf25-Jun-2022 00:07 484  
[TXT]checksrc-out.txt25-Jun-2022 00:07 5.7K 
[   ]checksrc-summary.dcf25-Jun-2022 00:07 482  
[TXT]install-out.txt25-Jun-2022 00:07 1.9K 
[   ]install-summary.dcf25-Jun-2022 00:07 700