![]() | Name | Last modified | Size | Description |
---|---|---|---|---|
![]() | Parent Directory | - | ||
![]() | install-out.txt | 22-Sep-2023 00:37 | 1.2K | |
![]() | install-summary.dcf | 22-Sep-2023 00:37 | 275 | |
![]() | buildsrc-out.txt | 22-Sep-2023 00:37 | 901 | |
![]() | buildsrc-summary.dcf | 22-Sep-2023 00:37 | 441 | |
![]() | checksrc-out.txt | 22-Sep-2023 00:37 | 6.1K | |
![]() | checksrc-summary.dcf | 22-Sep-2023 00:37 | 452 | |