Index of /checkResults/devel/bioc-LATEST/SimBindProfiles/raw-results/lconway
Name
Last modified
Size
Description
Parent Directory
-
install-summary.dcf
29-Mar-2024 00:40
287
buildsrc-summary.dcf
29-Mar-2024 00:40
358
install-out.txt
29-Mar-2024 00:40
717
buildsrc-out.txt
29-Mar-2024 00:40
928