Name | Last modified | Size | Description | |
---|---|---|---|---|
Parent Directory | - | |||
install-summary.dcf | 17-Jul-2024 00:41 | 275 | ||
install-out.txt | 17-Jul-2024 00:41 | 1.0K | ||
checksrc-summary.dcf | 17-Jul-2024 00:41 | 463 | ||
checksrc-out.txt | 17-Jul-2024 00:41 | 3.4K | ||
buildsrc-summary.dcf | 17-Jul-2024 00:41 | 461 | ||
buildsrc-out.txt | 17-Jul-2024 00:41 | 850 | ||
buildbin-summary.dcf | 17-Jul-2024 00:41 | 526 | ||
buildbin-out.txt | 17-Jul-2024 00:41 | 1.1K | ||