![]() | Name | Last modified | Size | Description |
---|---|---|---|---|
![]() | Parent Directory | - | ||
![]() | buildbin-out.txt | 01-Jul-2022 00:07 | 1.2K | |
![]() | buildbin-summary.dcf | 01-Jul-2022 00:07 | 538 | |
![]() | buildsrc-out.txt | 01-Jul-2022 00:07 | 844 | |
![]() | buildsrc-summary.dcf | 01-Jul-2022 00:07 | 457 | |
![]() | checksrc-out.txt | 01-Jul-2022 00:07 | 3.3K | |
![]() | checksrc-summary.dcf | 01-Jul-2022 00:07 | 454 | |
![]() | install-out.txt | 01-Jul-2022 00:07 | 1.8K | |
![]() | install-summary.dcf | 01-Jul-2022 00:07 | 636 | |