Index of /checkResults/devel/bioc-LATEST/SigsPack/raw-results/nebbiolo2

[ICO]NameLast modifiedSizeDescription

[DIR]Parent Directory  -  
[TXT]buildsrc-out.txt16-Jun-2024 01:34 834  
[   ]buildsrc-summary.dcf16-Jun-2024 01:34 426  
[TXT]checksrc-out.txt16-Jun-2024 01:34 3.3K 
[   ]checksrc-summary.dcf16-Jun-2024 01:34 418  
[TXT]install-out.txt16-Jun-2024 01:34 1.0K 
[   ]install-summary.dcf16-Jun-2024 01:34 260