Index of /checkResults/devel/bioc-LATEST/SigsPack/raw-results/lconway

[ICO]NameLast modifiedSizeDescription

[DIR]Parent Directory  -  
[TXT]buildbin-out.txt14-Jul-2024 00:42 1.2K 
[   ]buildbin-summary.dcf14-Jul-2024 00:42 533  
[TXT]buildsrc-out.txt14-Jul-2024 00:42 820  
[   ]buildsrc-summary.dcf14-Jul-2024 00:42 431  
[TXT]checksrc-out.txt14-Jul-2024 00:42 3.4K 
[   ]checksrc-summary.dcf14-Jul-2024 00:42 448  
[TXT]install-out.txt14-Jul-2024 00:42 1.0K 
[   ]install-summary.dcf14-Jul-2024 00:42 270