Index of /checkResults/devel/bioc-LATEST/SigsPack/raw-results/kjohnson3

[ICO]NameLast modifiedSizeDescription

[DIR]Parent Directory  -  
[TXT]buildbin-out.txt14-Jul-2024 00:44 1.2K 
[   ]buildbin-summary.dcf14-Jul-2024 00:44 535  
[TXT]buildsrc-out.txt14-Jul-2024 00:44 820  
[   ]buildsrc-summary.dcf14-Jul-2024 00:44 430  
[TXT]checksrc-out.txt14-Jul-2024 00:44 3.4K 
[   ]checksrc-summary.dcf14-Jul-2024 00:44 447  
[TXT]install-out.txt14-Jul-2024 00:44 1.0K 
[   ]install-summary.dcf14-Jul-2024 00:44 270