Index of /checkResults/devel/bioc-LATEST/SigFuge/raw-results
Name
Last modified
Size
Description
Parent Directory
-
kunpeng2/
16-May-2024 02:46
-
palomino4/
23-May-2024 00:37
-
info.dcf
27-May-2024 00:34
268
nebbiolo2/
27-May-2024 00:35
-
merida1/
27-May-2024 00:35
-