Index of /checkResults/devel/bioc-LATEST/SigCheck/raw-results/palomino4

[ICO]NameLast modifiedSizeDescription

[DIR]Parent Directory  -  
[TXT]buildbin-out.txt05-Oct-2023 00:38 1.2K 
[   ]buildbin-summary.dcf05-Oct-2023 00:38 521  
[TXT]buildsrc-out.txt05-Oct-2023 00:38 904  
[   ]buildsrc-summary.dcf05-Oct-2023 00:38 456  
[TXT]checksrc-out.txt05-Oct-2023 00:38 3.7K 
[   ]checksrc-summary.dcf05-Oct-2023 00:38 451  
[TXT]install-out.txt05-Oct-2023 00:38 1.0K 
[   ]install-summary.dcf05-Oct-2023 00:38 270