![]() | Name | Last modified | Size | Description |
---|---|---|---|---|
![]() | Parent Directory | - | ||
![]() | buildsrc-out.txt | 30-Sep-2023 01:03 | 873 | |
![]() | buildsrc-summary.dcf | 30-Sep-2023 01:03 | 420 | |
![]() | checksrc-out.txt | 30-Sep-2023 01:03 | 3.8K | |
![]() | checksrc-summary.dcf | 30-Sep-2023 01:03 | 418 | |
![]() | install-out.txt | 30-Sep-2023 01:03 | 1.0K | |
![]() | install-summary.dcf | 30-Sep-2023 01:03 | 261 | |