Index of /checkResults/devel/bioc-LATEST/SigCheck/raw-results
Name
Last modified
Size
Description
Parent Directory
-
nebbiolo2/
23-Sep-2023 00:37
-
palomino4/
23-Sep-2023 00:38
-
lconway/
23-Sep-2023 00:39
-
info.dcf
23-Sep-2023 00:41
269
kunpeng2/
23-Sep-2023 00:41
-