Name | Last modified | Size | Description | |
---|---|---|---|---|
Parent Directory | - | |||
install-summary.dcf | 27-Jun-2024 00:37 | 256 | ||
install-out.txt | 27-Jun-2024 00:37 | 941 | ||
checksrc-summary.dcf | 27-Jun-2024 00:37 | 408 | ||
checksrc-out.txt | 27-Jun-2024 00:37 | 3.0K | ||
buildsrc-summary.dcf | 27-Jun-2024 00:37 | 418 | ||
buildsrc-out.txt | 27-Jun-2024 00:37 | 857 | ||