Index of /checkResults/devel/bioc-LATEST/ShortRead/raw-results/palomino4

[ICO]NameLast modifiedSizeDescription

[DIR]Parent Directory  -  
[TXT]buildbin-out.txt16-Aug-2022 00:06 12K 
[   ]buildbin-summary.dcf16-Aug-2022 00:06 545  
[TXT]buildsrc-out.txt16-Aug-2022 00:06 1.0K 
[   ]buildsrc-summary.dcf16-Aug-2022 00:06 461  
[TXT]checksrc-out.txt16-Aug-2022 00:06 5.8K 
[   ]checksrc-summary.dcf16-Aug-2022 00:06 458  
[TXT]install-out.txt16-Aug-2022 00:06 12K 
[   ]install-summary.dcf16-Aug-2022 00:06 646