Name | Last modified | Size | Description | |
---|---|---|---|---|
Parent Directory | - | |||
install-summary.dcf | 18-Jul-2024 00:39 | 263 | ||
checksrc-summary.dcf | 18-Jul-2024 00:39 | 428 | ||
buildsrc-summary.dcf | 18-Jul-2024 00:39 | 429 | ||
buildsrc-out.txt | 18-Jul-2024 00:39 | 916 | ||
checksrc-out.txt | 18-Jul-2024 00:39 | 7.1K | ||
install-out.txt | 18-Jul-2024 00:39 | 14K | ||