Name | Last modified | Size | Description | |
---|---|---|---|---|
Parent Directory | - | |||
buildbin-out.txt | 05-Mar-2024 01:39 | 18K | ||
buildbin-summary.dcf | 05-Mar-2024 01:39 | 543 | ||
buildsrc-out.txt | 05-Mar-2024 01:39 | 902 | ||
buildsrc-summary.dcf | 05-Mar-2024 01:39 | 433 | ||
checksrc-out.txt | 05-Mar-2024 01:39 | 6.6K | ||
checksrc-summary.dcf | 05-Mar-2024 01:39 | 458 | ||
install-out.txt | 05-Mar-2024 01:39 | 16K | ||
install-summary.dcf | 05-Mar-2024 01:39 | 274 | ||