Name | Last modified | Size | Description | |
---|---|---|---|---|
Parent Directory | - | |||
install-summary.dcf | 02-May-2024 00:36 | 273 | ||
install-out.txt | 02-May-2024 00:36 | 16K | ||
buildsrc-out.txt | 02-May-2024 00:36 | 902 | ||
buildsrc-summary.dcf | 02-May-2024 00:36 | 434 | ||
checksrc-out.txt | 02-May-2024 00:36 | 6.6K | ||
checksrc-summary.dcf | 02-May-2024 00:36 | 458 | ||
buildbin-summary.dcf | 02-May-2024 00:36 | 542 | ||
buildbin-out.txt | 02-May-2024 00:36 | 18K | ||