Index of /checkResults/devel/bioc-LATEST/SeqSQC/raw-results/palomino3
Name
Last modified
Size
Description
Parent Directory
-
install-summary.dcf
29-Mar-2024 00:38
268
install-out.txt
29-Mar-2024 00:38
614
buildsrc-summary.dcf
29-Mar-2024 00:38
364
buildsrc-out.txt
29-Mar-2024 00:38
917