Index of /checkResults/devel/bioc-LATEST/SeqSQC/raw-results/palomino3
Name
Last modified
Size
Description
Parent Directory
-
buildsrc-out.txt
28-Mar-2024 00:38
919
buildsrc-summary.dcf
28-Mar-2024 00:38
364
install-out.txt
28-Mar-2024 00:38
614
install-summary.dcf
28-Mar-2024 00:38
268