Index of /checkResults/devel/bioc-LATEST/SeqSQC/raw-results/merida1
Name
Last modified
Size
Description
Parent Directory
-
buildsrc-out.txt
05-Mar-2024 01:39
884
buildsrc-summary.dcf
05-Mar-2024 01:39
340
install-out.txt
05-Mar-2024 01:39
691
install-summary.dcf
05-Mar-2024 01:39
269