Index of /checkResults/devel/bioc-LATEST/SeqSQC/raw-results/lconway
Name
Last modified
Size
Description
Parent Directory
-
install-out.txt
29-Mar-2024 00:40
691
install-summary.dcf
29-Mar-2024 00:40
269
buildsrc-out.txt
29-Mar-2024 00:40
884
buildsrc-summary.dcf
29-Mar-2024 00:40
340