Index of /checkResults/devel/bioc-LATEST/SeqSQC/raw-results/kunpeng2
Name
Last modified
Size
Description
Parent Directory
-
buildsrc-out.txt
29-Mar-2024 00:41
891
buildsrc-summary.dcf
29-Mar-2024 00:41
339
install-out.txt
29-Mar-2024 00:41
658
install-summary.dcf
29-Mar-2024 00:41
268