Back to Multiple platform build/check report for BioC 3.15
ABCDEFGHIJKLMNOPQR[S]TUVWXYZ

This page was generated on 2021-11-30 13:55:12 -0500 (Tue, 30 Nov 2021).

INSTALL results for ScaledMatrix on riesling1

To the developers/maintainers of the ScaledMatrix package:
- Please allow up to 24 hours (and sometimes 48 hours) for your latest push to git@git.bioconductor.org:packages/ScaledMatrix.git to
reflect on this report. See How and When does the builder pull? When will my changes propagate? here for more information.
- Make sure to use the following settings in order to reproduce any error or warning you see on this page.

raw results

Package 1689/2068HostnameOS / ArchINSTALLBUILDCHECKBUILD BIN
ScaledMatrix 1.3.0  (landing page)
Aaron Lun
Snapshot Date: 2021-11-29 14:50:17 -0500 (Mon, 29 Nov 2021)
git_url: https://git.bioconductor.org/packages/ScaledMatrix
git_branch: master
git_last_commit: 4d11c4d
git_last_commit_date: 2021-10-26 13:06:16 -0500 (Tue, 26 Oct 2021)
nebbiolo1Linux (Ubuntu 20.04.3 LTS) / x86_64  OK    OK    OK  UNNEEDED, same version is already published
riesling1Windows Server 2019 Standard / x64  OK    OK    OK    OK  
merida1macOS 10.14.6 Mojave / x86_64  OK    OK    OK    OK  UNNEEDED, same version is already published

Summary

Package: ScaledMatrix
Version: 1.3.0
Command: C:\cygwin\bin\curl.exe -O http://155.52.207.165/BBS/3.15/bioc/src/contrib/ScaledMatrix_1.3.0.tar.gz && rm -rf ScaledMatrix.buildbin-libdir && mkdir ScaledMatrix.buildbin-libdir && D:\biocbuild\bbs-3.15-bioc\R\bin\R.exe CMD INSTALL --merge-multiarch --build --library=ScaledMatrix.buildbin-libdir ScaledMatrix_1.3.0.tar.gz && D:\biocbuild\bbs-3.15-bioc\R\bin\R.exe CMD INSTALL ScaledMatrix_1.3.0.zip && rm ScaledMatrix_1.3.0.tar.gz ScaledMatrix_1.3.0.zip
StartedAt: 2021-11-29 17:41:38 -0500 (Mon, 29 Nov 2021)
EndedAt: 2021-11-29 17:44:43 -0500 (Mon, 29 Nov 2021)
EllapsedTime: 185.7 seconds
RetCode: 0
Status:   OK  

Command output

##############################################################################
##############################################################################
###
### Running command:
###
###   C:\cygwin\bin\curl.exe -O http://155.52.207.165/BBS/3.15/bioc/src/contrib/ScaledMatrix_1.3.0.tar.gz && rm -rf ScaledMatrix.buildbin-libdir && mkdir ScaledMatrix.buildbin-libdir && D:\biocbuild\bbs-3.15-bioc\R\bin\R.exe CMD INSTALL --merge-multiarch --build --library=ScaledMatrix.buildbin-libdir ScaledMatrix_1.3.0.tar.gz && D:\biocbuild\bbs-3.15-bioc\R\bin\R.exe CMD INSTALL ScaledMatrix_1.3.0.zip && rm ScaledMatrix_1.3.0.tar.gz ScaledMatrix_1.3.0.zip
###
##############################################################################
##############################################################################


  % Total    % Received % Xferd  Average Speed   Time    Time     Time  Current
                                 Dload  Upload   Total   Spent    Left  Speed

  0     0    0     0    0     0      0      0 --:--:-- --:--:-- --:--:--     0
100 13880  100 13880    0     0   118k      0 --:--:-- --:--:-- --:--:--  118k
only one architecture so ignoring '--merge-multiarch'
* installing *source* package 'ScaledMatrix' ...
** using staged installation
** R
** byte-compile and prepare package for lazy loading
** help
*** installing help indices
  converting help for package 'ScaledMatrix'
    finding HTML links ... done
    ScaledMatrix                            html  
    finding level-2 HTML links ... done

** building package indices
** installing vignettes
** testing if installed package can be loaded from temporary location
** testing if installed package can be loaded from final location
** testing if installed package keeps a record of temporary installation path
* MD5 sums
packaged installation of 'ScaledMatrix' as ScaledMatrix_1.3.0.zip
* DONE (ScaledMatrix)
* installing to library 'D:/biocbuild/bbs-3.15-bioc/R/library'
package 'ScaledMatrix' successfully unpacked and MD5 sums checked