Back to Multiple platform build/check report for BioC 3.15
ABCDEFGHIJKLMNOPQR[S]TUVWXYZ

This page was generated on 2021-11-26 14:05:21 -0500 (Fri, 26 Nov 2021).

CHECK results for ScaledMatrix on riesling1

To the developers/maintainers of the ScaledMatrix package:
- Please allow up to 24 hours (and sometimes 48 hours) for your latest push to git@git.bioconductor.org:packages/ScaledMatrix.git to
reflect on this report. See How and When does the builder pull? When will my changes propagate? here for more information.
- Make sure to use the following settings in order to reproduce any error or warning you see on this page.

raw results

Package 1689/2068HostnameOS / ArchINSTALLBUILDCHECKBUILD BIN
ScaledMatrix 1.3.0  (landing page)
Aaron Lun
Snapshot Date: 2021-11-25 14:50:11 -0500 (Thu, 25 Nov 2021)
git_url: https://git.bioconductor.org/packages/ScaledMatrix
git_branch: master
git_last_commit: 4d11c4d
git_last_commit_date: 2021-10-26 13:06:16 -0500 (Tue, 26 Oct 2021)
nebbiolo1Linux (Ubuntu 20.04.3 LTS) / x86_64  OK    OK    OK  UNNEEDED, same version is already published
riesling1Windows Server 2019 Standard / x64  OK    OK    OK    OK  
merida1macOS 10.14.6 Mojave / x86_64  OK    OK    OK    OK  UNNEEDED, same version is already published

Summary

Package: ScaledMatrix
Version: 1.3.0
Command: D:\biocbuild\bbs-3.15-bioc\R\bin\R.exe CMD check --force-multiarch --install=check:ScaledMatrix.install-out.txt --library=D:\biocbuild\bbs-3.15-bioc\R\library --no-vignettes --timings ScaledMatrix_1.3.0.tar.gz
StartedAt: 2021-11-26 03:35:22 -0500 (Fri, 26 Nov 2021)
EndedAt: 2021-11-26 03:40:57 -0500 (Fri, 26 Nov 2021)
EllapsedTime: 334.6 seconds
RetCode: 0
Status:   OK  
CheckDir: ScaledMatrix.Rcheck
Warnings: 0

Command output

##############################################################################
##############################################################################
###
### Running command:
###
###   D:\biocbuild\bbs-3.15-bioc\R\bin\R.exe CMD check --force-multiarch --install=check:ScaledMatrix.install-out.txt --library=D:\biocbuild\bbs-3.15-bioc\R\library --no-vignettes --timings ScaledMatrix_1.3.0.tar.gz
###
##############################################################################
##############################################################################


* using log directory 'D:/biocbuild/bbs-3.15-bioc/meat/ScaledMatrix.Rcheck'
* using R Under development (unstable) (2021-11-21 r81221)
* using platform: x86_64-w64-mingw32 (64-bit)
* using session charset: ISO8859-1
* using option '--no-vignettes'
* checking for file 'ScaledMatrix/DESCRIPTION' ... OK
* this is package 'ScaledMatrix' version '1.3.0'
* checking package namespace information ... OK
* checking package dependencies ... OK
* checking if this is a source package ... OK
* checking if there is a namespace ... OK
* checking for hidden files and directories ... OK
* checking for portable file names ... OK
* checking whether package 'ScaledMatrix' can be installed ... OK
* checking installed package size ... OK
* checking package directory ... OK
* checking 'build' directory ... OK
* checking DESCRIPTION meta-information ... OK
* checking top-level files ... OK
* checking for left-over files ... OK
* checking index information ... OK
* checking package subdirectories ... OK
* checking R files for non-ASCII characters ... OK
* checking R files for syntax errors ... OK
* checking whether the package can be loaded ... OK
* checking whether the package can be loaded with stated dependencies ... OK
* checking whether the package can be unloaded cleanly ... OK
* checking whether the namespace can be loaded with stated dependencies ... OK
* checking whether the namespace can be unloaded cleanly ... OK
* checking dependencies in R code ... OK
* checking S3 generic/method consistency ... OK
* checking replacement functions ... OK
* checking foreign function calls ... OK
* checking R code for possible problems ... OK
* checking Rd files ... OK
* checking Rd metadata ... OK
* checking Rd cross-references ... OK
* checking for missing documentation entries ... OK
* checking for code/documentation mismatches ... OK
* checking Rd \usage sections ... OK
* checking Rd contents ... OK
* checking for unstated dependencies in examples ... OK
* checking files in 'vignettes' ... OK
* checking examples ... OK
* checking for unstated dependencies in 'tests' ... OK
* checking tests ...
  Running 'testthat.R'
 OK
* checking for unstated dependencies in vignettes ... OK
* checking package vignettes in 'inst/doc' ... OK
* checking running R code from vignettes ... SKIPPED
* checking re-building of vignette outputs ... SKIPPED
* checking PDF version of manual ... OK
* DONE

Status: OK


Installation output

ScaledMatrix.Rcheck/00install.out

##############################################################################
##############################################################################
###
### Running command:
###
###   C:\cygwin\bin\curl.exe -O http://155.52.207.165/BBS/3.15/bioc/src/contrib/ScaledMatrix_1.3.0.tar.gz && rm -rf ScaledMatrix.buildbin-libdir && mkdir ScaledMatrix.buildbin-libdir && D:\biocbuild\bbs-3.15-bioc\R\bin\R.exe CMD INSTALL --merge-multiarch --build --library=ScaledMatrix.buildbin-libdir ScaledMatrix_1.3.0.tar.gz && D:\biocbuild\bbs-3.15-bioc\R\bin\R.exe CMD INSTALL ScaledMatrix_1.3.0.zip && rm ScaledMatrix_1.3.0.tar.gz ScaledMatrix_1.3.0.zip
###
##############################################################################
##############################################################################


  % Total    % Received % Xferd  Average Speed   Time    Time     Time  Current
                                 Dload  Upload   Total   Spent    Left  Speed

  0     0    0     0    0     0      0      0 --:--:-- --:--:-- --:--:--     0
100 13880  100 13880    0     0   121k      0 --:--:-- --:--:-- --:--:--  121k
only one architecture so ignoring '--merge-multiarch'
* installing *source* package 'ScaledMatrix' ...
** using staged installation
** R
** byte-compile and prepare package for lazy loading
** help
*** installing help indices
  converting help for package 'ScaledMatrix'
    finding HTML links ... done
    ScaledMatrix                            html  
    finding level-2 HTML links ... done

** building package indices
** installing vignettes
** testing if installed package can be loaded from temporary location
** testing if installed package can be loaded from final location
** testing if installed package keeps a record of temporary installation path
* MD5 sums
packaged installation of 'ScaledMatrix' as ScaledMatrix_1.3.0.zip
* DONE (ScaledMatrix)
* installing to library 'D:/biocbuild/bbs-3.15-bioc/R/library'
package 'ScaledMatrix' successfully unpacked and MD5 sums checked

Tests output

ScaledMatrix.Rcheck/tests/testthat.Rout


R Under development (unstable) (2021-11-21 r81221) -- "Unsuffered Consequences"
Copyright (C) 2021 The R Foundation for Statistical Computing
Platform: x86_64-w64-mingw32/x64 (64-bit)

R is free software and comes with ABSOLUTELY NO WARRANTY.
You are welcome to redistribute it under certain conditions.
Type 'license()' or 'licence()' for distribution details.

R is a collaborative project with many contributors.
Type 'contributors()' for more information and
'citation()' on how to cite R or R packages in publications.

Type 'demo()' for some demos, 'help()' for on-line help, or
'help.start()' for an HTML browser interface to help.
Type 'q()' to quit R.

> library(testthat)
> library(ScaledMatrix)
> test_check("ScaledMatrix")
[ FAIL 0 | WARN 0 | SKIP 0 | PASS 9874 ]
> 
> proc.time()
   user  system elapsed 
  25.81    0.48   26.28 

Example timings

ScaledMatrix.Rcheck/ScaledMatrix-Ex.timings

nameusersystemelapsed
ScaledMatrix0.090.000.09