Index of /checkResults/devel/bioc-LATEST/ScaledMatrix/raw-results/riesling1

[ICO]NameLast modifiedSizeDescription

[DIR]Parent Directory  -  
[TXT]buildbin-out.txt25-Jan-2022 01:08 1.3K 
[   ]buildbin-summary.dcf25-Jan-2022 01:08 540  
[TXT]buildsrc-out.txt25-Jan-2022 01:08 863  
[   ]buildsrc-summary.dcf25-Jan-2022 01:08 471  
[TXT]checksrc-out.txt25-Jan-2022 01:08 3.0K 
[   ]checksrc-summary.dcf25-Jan-2022 01:08 465  
[TXT]install-out.txt25-Jan-2022 01:08 1.3K 
[   ]install-summary.dcf25-Jan-2022 01:08 277