Index of /checkResults/devel/bioc-LATEST/ScaledMatrix/raw-results/merida1

[ICO]NameLast modifiedSizeDescription

[DIR]Parent Directory  -  
[TXT]buildbin-out.txt29-Jan-2022 01:12 1.2K 
[   ]buildbin-summary.dcf29-Jan-2022 01:12 557  
[TXT]buildsrc-out.txt29-Jan-2022 01:12 835  
[   ]buildsrc-summary.dcf29-Jan-2022 01:12 441  
[TXT]checksrc-out.txt29-Jan-2022 01:12 3.3K 
[   ]checksrc-summary.dcf29-Jan-2022 01:12 462  
[TXT]install-out.txt29-Jan-2022 01:12 1.0K 
[   ]install-summary.dcf29-Jan-2022 01:12 278