Back to Multiple platform build/check report for BioC 3.15
ABCDEFGHIJKLMNOPQR[S]TUVWXYZ

This page was generated on 2021-11-27 14:05:54 -0500 (Sat, 27 Nov 2021).

INSTALL results for ScaledMatrix on merida1

To the developers/maintainers of the ScaledMatrix package:
- Please allow up to 24 hours (and sometimes 48 hours) for your latest push to git@git.bioconductor.org:packages/ScaledMatrix.git to
reflect on this report. See How and When does the builder pull? When will my changes propagate? here for more information.
- Make sure to use the following settings in order to reproduce any error or warning you see on this page.

raw results

Package 1689/2068HostnameOS / ArchINSTALLBUILDCHECKBUILD BIN
ScaledMatrix 1.3.0  (landing page)
Aaron Lun
Snapshot Date: 2021-11-26 14:50:14 -0500 (Fri, 26 Nov 2021)
git_url: https://git.bioconductor.org/packages/ScaledMatrix
git_branch: master
git_last_commit: 4d11c4d
git_last_commit_date: 2021-10-26 13:06:16 -0500 (Tue, 26 Oct 2021)
nebbiolo1Linux (Ubuntu 20.04.3 LTS) / x86_64  OK    OK    OK  UNNEEDED, same version is already published
riesling1Windows Server 2019 Standard / x64  OK    OK    OK    OK  
merida1macOS 10.14.6 Mojave / x86_64  OK    OK    OK    OK  UNNEEDED, same version is already published

Summary

Package: ScaledMatrix
Version: 1.3.0
Command: /Library/Frameworks/R.framework/Resources/bin/R CMD INSTALL ScaledMatrix
StartedAt: 2021-11-26 16:53:31 -0500 (Fri, 26 Nov 2021)
EndedAt: 2021-11-26 16:54:27 -0500 (Fri, 26 Nov 2021)
EllapsedTime: 55.7 seconds
RetCode: 0
Status:   OK  

Command output

##############################################################################
##############################################################################
###
### Running command:
###
###   /Library/Frameworks/R.framework/Resources/bin/R CMD INSTALL ScaledMatrix
###
##############################################################################
##############################################################################


* installing to library ‘/Library/Frameworks/R.framework/Versions/4.2/Resources/library’
* installing *source* package ‘ScaledMatrix’ ...
** using staged installation
** R
** byte-compile and prepare package for lazy loading
** help
*** installing help indices
** building package indices
** installing vignettes
** testing if installed package can be loaded from temporary location
** testing if installed package can be loaded from final location
** testing if installed package keeps a record of temporary installation path
* DONE (ScaledMatrix)