Index of /checkResults/devel/bioc-LATEST/Scale4C/raw-results
Name
Last modified
Size
Description
Parent Directory
-
palomino4/
21-May-2024 00:36
-
nebbiolo2/
21-May-2024 00:36
-
merida1/
21-May-2024 00:37
-
kunpeng2/
16-May-2024 02:46
-
info.dcf
21-May-2024 00:35
276