Back to Multiple platform build/check report for BioC 3.15
ABCDEFGHIJKLMNOPQR[S]TUVWXYZ

This page was generated on 2022-01-18 11:08:19 -0500 (Tue, 18 Jan 2022).

HostnameOSArch (*)R versionInstalled pkgs
nebbiolo1Linux (Ubuntu 20.04.4 LTS)x86_64R Under development (unstable) (2022-01-05 r81451) -- "Unsuffered Consequences" 4161
riesling1Windows Server 2019 Standardx64R Under development (unstable) (2021-11-21 r81221) -- "Unsuffered Consequences" 4056
palomino3Windows Server 2022 Datacenterx64R Under development (unstable) (2021-12-21 r81400 ucrt) -- "Unsuffered Consequences" 3998
merida1macOS 10.14.6 Mojavex86_64R Under development (unstable) (2022-01-05 r81451) -- "Unsuffered Consequences" 4115
Click on any hostname to see more info about the system (e.g. compilers)      (*) as reported by 'uname -p', except on Windows and Mac OS X

INSTALL results for ScISI on riesling1


To the developers/maintainers of the ScISI package:
- Please allow up to 24 hours (and sometimes 48 hours) for your latest push to git@git.bioconductor.org:packages/ScISI.git to
reflect on this report. See How and When does the builder pull? When will my changes propagate? here for more information.
- Make sure to use the following settings in order to reproduce any error or warning you see on this page.

raw results

Package 1721/2074HostnameOS / ArchINSTALLBUILDCHECKBUILD BIN
ScISI 1.67.1  (landing page)
Tony Chiang
Snapshot Date: 2022-01-17 13:55:17 -0500 (Mon, 17 Jan 2022)
git_url: https://git.bioconductor.org/packages/ScISI
git_branch: master
git_last_commit: 5c1326c
git_last_commit_date: 2022-01-05 14:57:14 -0500 (Wed, 05 Jan 2022)
nebbiolo1Linux (Ubuntu 20.04.4 LTS) / x86_64  OK    ERROR  skipped
riesling1Windows Server 2019 Standard / x64  OK    ERROR  skippedskipped
palomino3Windows Server 2022 Datacenter / x64  OK    ERROR  skippedskipped
merida1macOS 10.14.6 Mojave / x86_64  OK    ERROR  skippedskipped

Summary

Package: ScISI
Version: 1.67.1
Command: D:\biocbuild\bbs-3.15-bioc\R\bin\R.exe CMD INSTALL ScISI
StartedAt: 2022-01-17 15:53:37 -0500 (Mon, 17 Jan 2022)
EndedAt: 2022-01-17 15:54:34 -0500 (Mon, 17 Jan 2022)
EllapsedTime: 56.5 seconds
RetCode: 0
Status:   OK  

Command output

##############################################################################
##############################################################################
###
### Running command:
###
###   D:\biocbuild\bbs-3.15-bioc\R\bin\R.exe CMD INSTALL ScISI
###
##############################################################################
##############################################################################


* installing to library 'D:/biocbuild/bbs-3.15-bioc/R/library'
* installing *source* package 'ScISI' ...
** using staged installation
** R
** data
** inst
** byte-compile and prepare package for lazy loading
Warning message:
Package 'RpsiXML' is deprecated and will be removed from Bioconductor
  version 3.16 
** help
*** installing help indices
  converting help for package 'ScISI'
    finding HTML links ... done
    Desc-methods                            html  
    ID-methods                              html  
    JaccardCoef                             html  
    ScISI                                   html  
    ScISI2html                              html  
    arp23                                   html  
    arp23G                                  html  
    arp23Orf                                html  
    arp23Y2HG                               html  
    calcGraphStats                          html  
    cfia                                    html  
    cfiaOrf                                 html  
    checkComplex                            html  
    checkSGN                                html  
    compBijection                           html  
    compareComplex                          html  
    createGODataFrame                       html  
    createGOMatrix                          html  
    createMipsDataFrame                     html  
    createMipsMatrix                        html  
    createYeastDataObj                      html  
    dataS                                   html  
    eAt                                     html  
    eAt2                                    html  
    edgeProp                                html  
    egEBI16112                              html  
    expStats                                html  
    findSubComp                             html  
    gavin2mergeMG                           html  
    getAPMSData                             html  
    getGOInfo                               html  
    getLocOrfs                              html  
    getMipsInfo                             html  
    getURL-methods                          html  
    graphSumStats                           html  
    ho2mergeMGG                             html  
    krogan2mergeMGGH                        html  
    locScISI                                html  
    mapping2SysG                            html  
    mappingsG                               html  
    maximizeSimilarity                      html  
    meanDeg                                 html  
    mergeBGMat                              html  
    mips2go                                 html  
    nAt                                     html  
    nAtMap                                  html  
    nonGenes                                html  
    nucComp                                 html  
    recCompSize                             html  
    redundantM                              html  
    rmByEvi                                 html  
    runAlignment                            html  
    runCompareComplex                       html  
    subCompM                                html  
    sumStats                                html  
    unWantedComp                            html  
    unwanted                                html  
    xtraGO                                  html  
    xtraGONodes                             html  
    yeastData-class                         html  
** building package indices
** installing vignettes
** testing if installed package can be loaded from temporary location
Warning: Package 'RpsiXML' is deprecated and will be removed from Bioconductor
  version 3.16
Warning: Package 'ScISI' is deprecated and will be removed from Bioconductor
  version 3.16
** testing if installed package can be loaded from final location
Warning: Package 'RpsiXML' is deprecated and will be removed from Bioconductor
  version 3.16
Warning: Package 'ScISI' is deprecated and will be removed from Bioconductor
  version 3.16
** testing if installed package keeps a record of temporary installation path
* DONE (ScISI)
Making 'packages.html' ...Warning in packageDescription(i, lib.loc = lib, fields = "Title", encoding = "UTF-8") :
  DESCRIPTION file of package 'GSVA' is missing or broken
 done