Index of /checkResults/devel/bioc-LATEST/SVMDO/raw-results/lconway
Name
Last modified
Size
Description
Parent Directory
-
install-summary.dcf
28-Jun-2024 00:38
267
buildsrc-summary.dcf
28-Jun-2024 00:38
338
install-out.txt
28-Jun-2024 00:38
1.4K
buildsrc-out.txt
28-Jun-2024 00:38
1.6K