############################################################################## ############################################################################## ### ### Running command: ### ### C:\cygwin\bin\curl.exe -O http://155.52.207.166/BBS/3.16/bioc/src/contrib/STROMA4_1.21.0.tar.gz && rm -rf STROMA4.buildbin-libdir && mkdir STROMA4.buildbin-libdir && F:\biocbuild\bbs-3.16-bioc\R\bin\R.exe CMD INSTALL --merge-multiarch --build --library=STROMA4.buildbin-libdir STROMA4_1.21.0.tar.gz && F:\biocbuild\bbs-3.16-bioc\R\bin\R.exe CMD INSTALL STROMA4_1.21.0.zip && rm STROMA4_1.21.0.tar.gz STROMA4_1.21.0.zip ### ############################################################################## ############################################################################## % Total % Received % Xferd Average Speed Time Time Time Current Dload Upload Total Spent Left Speed 0 0 0 0 0 0 0 0 --:--:-- --:--:-- --:--:-- 0 100 43165 100 43165 0 0 722k 0 --:--:-- --:--:-- --:--:-- 739k only one architecture so ignoring '--merge-multiarch' * installing *source* package 'STROMA4' ... ** using staged installation ** R ** data *** moving datasets to lazyload DB ** byte-compile and prepare package for lazy loading ** help *** installing help indices ** building package indices ** installing vignettes ** testing if installed package can be loaded from temporary location ** testing if installed package can be loaded from final location ** testing if installed package keeps a record of temporary installation path * MD5 sums packaged installation of 'STROMA4' as STROMA4_1.21.0.zip * DONE (STROMA4) * installing to library 'F:/biocbuild/bbs-3.16-bioc/R/library' package 'STROMA4' successfully unpacked and MD5 sums checked