Back to Multiple platform build/check report for BioC 3.14
ABCDEFGHIJKLMNOPQR[S]TUVWXYZ

This page was generated on 2021-10-22 12:04:46 -0400 (Fri, 22 Oct 2021).

BUILD results for STATegRa on riesling1

To the developers/maintainers of the STATegRa package:
- Please allow up to 24 hours (and sometimes 48 hours) for your latest push to git@git.bioconductor.org:packages/STATegRa.git to
reflect on this report. See How and When does the builder pull? When will my changes propagate? here for more information.
- Make sure to use the following settings in order to reproduce any error or warning you see on this page.

raw results

Package 1880/2075HostnameOS / ArchINSTALLBUILDCHECKBUILD BIN
STATegRa 1.29.0  (landing page)
David Gomez-Cabrero , NĂºria Planell
Snapshot Date: 2021-10-21 14:50:08 -0400 (Thu, 21 Oct 2021)
git_url: https://git.bioconductor.org/packages/STATegRa
git_branch: master
git_last_commit: 2771b94
git_last_commit_date: 2021-05-19 12:08:55 -0400 (Wed, 19 May 2021)
nebbiolo2Linux (Ubuntu 20.04.2 LTS) / x86_64  OK    OK    OK  UNNEEDED, same version is already published
riesling1Windows Server 2019 Standard / x64  OK    OK    OK    OK  UNNEEDED, same version is already published
merida1macOS 10.14.6 Mojave / x86_64  OK    OK    OK    NA  

Summary

Package: STATegRa
Version: 1.29.0
Command: chmod a+r STATegRa -R && D:\biocbuild\bbs-3.14-bioc\R\bin\R.exe CMD build --keep-empty-dirs --no-resave-data STATegRa
StartedAt: 2021-10-21 23:26:30 -0400 (Thu, 21 Oct 2021)
EndedAt: 2021-10-21 23:30:27 -0400 (Thu, 21 Oct 2021)
EllapsedTime: 236.3 seconds
RetCode: 0
Status:   OK  
PackageFile: STATegRa_1.29.0.tar.gz
PackageFileSize: 4.155 MiB

Command output

##############################################################################
##############################################################################
###
### Running command:
###
###   chmod a+r STATegRa -R && D:\biocbuild\bbs-3.14-bioc\R\bin\R.exe CMD build --keep-empty-dirs --no-resave-data STATegRa
###
##############################################################################
##############################################################################


* checking for file 'STATegRa/DESCRIPTION' ... OK
* preparing 'STATegRa':
* checking DESCRIPTION meta-information ... OK
* installing the package to build vignettes
* creating vignettes ... OK
* checking for LF line-endings in source and make files and shell scripts
* checking for empty or unneeded directories
* looking to see if a 'data/datalist' file should be added
* building 'STATegRa_1.29.0.tar.gz'