Index of /checkResults/devel/bioc-LATEST/SPOTlight/raw-results/kunpeng2
Name
Last modified
Size
Description
Parent Directory
-
install-summary.dcf
16-May-2024 02:46
273
buildsrc-summary.dcf
16-May-2024 02:46
433
buildsrc-out.txt
16-May-2024 02:46
824
install-out.txt
16-May-2024 02:46
1.0K