Name | Last modified | Size | Description | |
---|---|---|---|---|
Parent Directory | - | |||
install-out.txt | 12-Jun-2024 04:41 | 1.3K | ||
install-summary.dcf | 12-Jun-2024 04:41 | 270 | ||
buildsrc-out.txt | 12-Jun-2024 04:41 | 844 | ||
buildsrc-summary.dcf | 12-Jun-2024 04:41 | 455 | ||
checksrc-out.txt | 12-Jun-2024 04:41 | 3.8K | ||
checksrc-summary.dcf | 12-Jun-2024 04:41 | 457 | ||
buildbin-out.txt | 12-Jun-2024 04:41 | 1.4K | ||
buildbin-summary.dcf | 12-Jun-2024 04:41 | 521 | ||