Name | Last modified | Size | Description | |
---|---|---|---|---|
Parent Directory | - | |||
install-summary.dcf | 18-Jul-2024 00:39 | 261 | ||
install-out.txt | 18-Jul-2024 00:39 | 1.0K | ||
checksrc-summary.dcf | 18-Jul-2024 00:39 | 418 | ||
checksrc-out.txt | 18-Jul-2024 00:39 | 3.3K | ||
buildsrc-summary.dcf | 18-Jul-2024 00:39 | 425 | ||
buildsrc-out.txt | 18-Jul-2024 00:39 | 834 | ||